BEGIN:VCALENDAR
VERSION:2.0
PRODID:-//East Texas  Rifle &amp; Pistol Club - ECPv6.15.20//NONSGML v1.0//EN
CALSCALE:GREGORIAN
METHOD:PUBLISH
X-WR-CALNAME:East Texas  Rifle &amp; Pistol Club
X-ORIGINAL-URL:https://etrpc.com
X-WR-CALDESC:Events for East Texas  Rifle &amp; Pistol Club
REFRESH-INTERVAL;VALUE=DURATION:PT1H
X-Robots-Tag:noindex
X-PUBLISHED-TTL:PT1H
BEGIN:VTIMEZONE
TZID:America/Chicago
BEGIN:DAYLIGHT
TZOFFSETFROM:-0600
TZOFFSETTO:-0500
TZNAME:CDT
DTSTART:20250309T080000
END:DAYLIGHT
BEGIN:STANDARD
TZOFFSETFROM:-0500
TZOFFSETTO:-0600
TZNAME:CST
DTSTART:20251102T070000
END:STANDARD
BEGIN:DAYLIGHT
TZOFFSETFROM:-0600
TZOFFSETTO:-0500
TZNAME:CDT
DTSTART:20260308T080000
END:DAYLIGHT
BEGIN:STANDARD
TZOFFSETFROM:-0500
TZOFFSETTO:-0600
TZNAME:CST
DTSTART:20261101T070000
END:STANDARD
BEGIN:DAYLIGHT
TZOFFSETFROM:-0600
TZOFFSETTO:-0500
TZNAME:CDT
DTSTART:20270314T080000
END:DAYLIGHT
BEGIN:STANDARD
TZOFFSETFROM:-0500
TZOFFSETTO:-0600
TZNAME:CST
DTSTART:20271107T070000
END:STANDARD
END:VTIMEZONE
BEGIN:VEVENT
DTSTART;TZID=America/Chicago:20260418T100000
DTEND;TZID=America/Chicago:20260418T140000
DTSTAMP:20260420T041658
CREATED:20260319T194824Z
LAST-MODIFIED:20260319T194946Z
UID:10006623-1776506400-1776520800@etrpc.com
SUMMARY:ETRPC April 2026 Steel Challenge Match 5 stages
DESCRIPTION:4 classifier stages and one provisional stage of steel\, Approx 125 rounds. Please arrive and check in at least ten minutes before start time. Please note: That we will start at 10:00 AM\nRanges 8\,9\,10\,11 & 12
URL:https://etrpc.com/calendar/etrpc-april-2026-steel-challenge-match-5-stages/
LOCATION:ETRPC Upper Ranges\, 1045 FM 2011\, Longview\, TX\, 75603\, United States
GEO:32.427217;-94.7771559
X-APPLE-STRUCTURED-LOCATION;VALUE=URI;X-ADDRESS=ETRPC Upper Ranges 1045 FM 2011 Longview TX 75603 United States;X-APPLE-RADIUS=500;X-TITLE=1045 FM 2011:geo:-94.7771559,32.427217
END:VEVENT
END:VCALENDAR